BEGIN:VCALENDAR
VERSION:2.0
PRODID:-//Onalaska Art Keepers - ECPv6.15.20//NONSGML v1.0//EN
CALSCALE:GREGORIAN
METHOD:PUBLISH
X-ORIGINAL-URL:https://onalaskaartkeepers.org
X-WR-CALDESC:Events for Onalaska Art Keepers
REFRESH-INTERVAL;VALUE=DURATION:PT1H
X-Robots-Tag:noindex
X-PUBLISHED-TTL:PT1H
BEGIN:VTIMEZONE
TZID:America/Chicago
BEGIN:DAYLIGHT
TZOFFSETFROM:-0600
TZOFFSETTO:-0500
TZNAME:CDT
DTSTART:20230312T080000
END:DAYLIGHT
BEGIN:STANDARD
TZOFFSETFROM:-0500
TZOFFSETTO:-0600
TZNAME:CST
DTSTART:20231105T070000
END:STANDARD
BEGIN:DAYLIGHT
TZOFFSETFROM:-0600
TZOFFSETTO:-0500
TZNAME:CDT
DTSTART:20240310T080000
END:DAYLIGHT
BEGIN:STANDARD
TZOFFSETFROM:-0500
TZOFFSETTO:-0600
TZNAME:CST
DTSTART:20241103T070000
END:STANDARD
BEGIN:DAYLIGHT
TZOFFSETFROM:-0600
TZOFFSETTO:-0500
TZNAME:CDT
DTSTART:20250309T080000
END:DAYLIGHT
BEGIN:STANDARD
TZOFFSETFROM:-0500
TZOFFSETTO:-0600
TZNAME:CST
DTSTART:20251102T070000
END:STANDARD
END:VTIMEZONE
BEGIN:VTIMEZONE
TZID:UTC
BEGIN:STANDARD
TZOFFSETFROM:+0000
TZOFFSETTO:+0000
TZNAME:UTC
DTSTART:20240101T000000
END:STANDARD
END:VTIMEZONE
BEGIN:VEVENT
DTSTART;TZID=America/Chicago:20241005T100000
DTEND;TZID=America/Chicago:20241005T140000
DTSTAMP:20260420T203116
CREATED:20240508T184004Z
LAST-MODIFIED:20241003T003322Z
UID:1529-1728122400-1728136800@onalaskaartkeepers.org
SUMMARY:Pumpkin and a Pint
DESCRIPTION:This is a family event where you can come and share a beer for adults or a root beer for the kids and for a small fee\, paint a pumpkin.  \nJoin us on Saturday\, October 5\, 2024 from 10:00 AM – 2:00 PM at Dash Park in Onalaska \nThere is a $10 entry fee that includes pumpkin painting and a beverage. \nWe will also have a live spray paint mural demonstration with Cody Sanderson along\, a live art auction and story time for kids. \nSchedule of Events: \n10:00 AM – 12:00 PM: Pumpkin painting\, games\, face painting\, corn doll making\, music food\, and EastBank Artist Critique for artists. \n10:00 AM – 12:00 PM: Cody Sanderson – mural painting on the fly. Sponsored by Great River K9 Grooming. \n11:25 AM: Lynda Lyche Acorn Award \n11:30 AM: Story time in Dash Park \n11:30 AM: Art auction \n12:30 PM: Pop Up Prizes and Favorite Artist Award \n1:00 PM: Pumpkin painting\, games\, face painting\, corn doll making\, music\, and food. \n2:00 PM: End of event \nThank you to our sponsors: \nCanvasback Coffee | 1919 Root Beer | Gary Luecke – Fleis Insurance | David Ray’s Modern Diner + Tavern | Mary Cody’s Restaurant | Great River K9 Grooming | Eastbank Artists\, Inc. | Tom’s Tent Rentals \n 
URL:https://onalaskaartkeepers.org/event/pumpkin-and-a-pint-2/
LOCATION:Dash Park\, 200 Main Street\, Onalaska\, WI\, 54650\, United States
CATEGORIES:OAK Events
ATTACH;FMTTYPE=image/jpeg:https://onalaskaartkeepers.org/wp-content/uploads/2024/05/Pumpkin-and-a-Pint-2024.jpeg
END:VEVENT
BEGIN:VEVENT
DTSTART;TZID=UTC:20251004T110000
DTEND;TZID=UTC:20251004T150000
DTSTAMP:20260420T203116
CREATED:20250826T181316Z
LAST-MODIFIED:20250917T014538Z
UID:1669-1759575600-1759590000@onalaskaartkeepers.org
SUMMARY:Pumpkin and a Pint
DESCRIPTION:This is a family event where you can come and share a beer for adults or a root beer for the kids and for a small fee\, paint a pumpkin. \nJoin us on Saturday\, October 4\, 2025 from 11:00 AM – 3:00 PM at Dash Park in Onalaska \nThere is a $10 entry fee that includes pumpkin painting and a beverage. \nSchedule of Events: (Please check back for updates periodically) \n11:00 AM – 12:45 PM: Pumpkin painting and music \n12:45 PM: Celebration and dedication of 2025 projects\, Linda Lyche Acorn Award\, People’s Choice Award\, and Pop-Up winners announced. \n1:00 PM: Live auction and student art\, online silent auction winners will be announced. \n1:30 PM – 3:00 PM: Pumpkin painting and music \n3:00 PM: End of event \nThank you to our sponsors:
URL:https://onalaskaartkeepers.org/event/pumpkin-and-a-pint-3/
LOCATION:Dash Park\, 200 Main Street\, Onalaska\, WI\, 54650\, United States
CATEGORIES:OAK Events
ATTACH;FMTTYPE=image/jpeg:https://onalaskaartkeepers.org/wp-content/uploads/2024/05/Pumpkin-and-a-Pint-2024.jpeg
END:VEVENT
BEGIN:VEVENT
DTSTART;TZID=UTC:20251101T110000
DTEND;TZID=UTC:20251101T140000
DTSTAMP:20260420T203116
CREATED:20251113T013414Z
LAST-MODIFIED:20251113T013414Z
UID:1715-1761994800-1762005600@onalaskaartkeepers.org
SUMMARY:Antique Appraisal Event
DESCRIPTION:Onalaska Art Keepers\, in partnership with the Onalaska Library\, co-hosted an event similar to the “Antique Road Show” \n 
URL:https://onalaskaartkeepers.org/event/antique-appraisal-event/
LOCATION:Onalaska Library\, 741 Oak Ave S\, Onalaska\, WI\, 54650\, United States
CATEGORIES:OAK Events
ATTACH;FMTTYPE=image/jpeg:https://onalaskaartkeepers.org/wp-content/uploads/2025/11/image0-2.jpeg
END:VEVENT
END:VCALENDAR