BEGIN:VCALENDAR
VERSION:2.0
PRODID:-//Onalaska Art Keepers - ECPv6.15.20//NONSGML v1.0//EN
CALSCALE:GREGORIAN
METHOD:PUBLISH
X-WR-CALNAME:Onalaska Art Keepers
X-ORIGINAL-URL:https://onalaskaartkeepers.org
X-WR-CALDESC:Events for Onalaska Art Keepers
REFRESH-INTERVAL;VALUE=DURATION:PT1H
X-Robots-Tag:noindex
X-PUBLISHED-TTL:PT1H
BEGIN:VTIMEZONE
TZID:UTC
BEGIN:STANDARD
TZOFFSETFROM:+0000
TZOFFSETTO:+0000
TZNAME:UTC
DTSTART:20220101T000000
END:STANDARD
END:VTIMEZONE
BEGIN:VEVENT
DTSTART;TZID=UTC:20231007T100000
DTEND;TZID=UTC:20231007T140000
DTSTAMP:20260421T225153
CREATED:20231003T011251Z
LAST-MODIFIED:20231003T011251Z
UID:1296-1696672800-1696687200@onalaskaartkeepers.org
SUMMARY:Pumpkin and a Pint
DESCRIPTION:This is a family event where you can come and share a beer for adults or a root beer for the kids and for a small fee\, paint a pumpkin. We have music and food and during the short event\, we auction off the 44 Pop Up Onalaska canvases that were created by our student and adult artists. It’s a fun event!
URL:https://onalaskaartkeepers.org/event/pumpkin-and-a-pint/
LOCATION:Dash Park\, 200 Main Street\, Onalaska\, WI\, 54650\, United States
CATEGORIES:OAK Events
ATTACH;FMTTYPE=image/png:https://onalaskaartkeepers.org/wp-content/uploads/2023/10/Pumpkin-and-a-Pint-Event.png
END:VEVENT
BEGIN:VEVENT
DTSTART;TZID=UTC:20230908T080000
DTEND;TZID=UTC:20230908T170000
DTSTAMP:20260421T225153
CREATED:20231003T012753Z
LAST-MODIFIED:20231003T012753Z
UID:1300-1694160000-1694192400@onalaskaartkeepers.org
SUMMARY:Head Start Mural
DESCRIPTION:The mural is complete and ready to be installed!
URL:https://onalaskaartkeepers.org/event/head-start-mural/
LOCATION:Head Start\, 310 Main Street\, Onalaska\, WI\, 54650\, United States
CATEGORIES:OAK Events
ATTACH;FMTTYPE=image/jpeg:https://onalaskaartkeepers.org/wp-content/uploads/2023/10/Headstart-Mural-Project.jpeg
END:VEVENT
BEGIN:VEVENT
DTSTART;TZID=UTC:20230901T000000
DTEND;TZID=UTC:20231006T120000
DTSTAMP:20260421T225153
CREATED:20231003T013329Z
LAST-MODIFIED:20231004T003322Z
UID:1303-1693526400-1696593600@onalaskaartkeepers.org
SUMMARY:Name the Rockin' Sunfish Contest
DESCRIPTION:Help Us Name the Sunfish!\nThe recent addition of this interactive art piece at the Great River Landing is in need of a name\, and we’re asking our community for help. Submit your best name idea for a chance to win the $100 Grand Prize and name the Rockin’ Sunfish! \nTimeline: \nSeptember 1st: Formally announce the Rockin’ Sunfish Naming Contest. \nSeptember 15th: Naming submissions end at 12:00pm. \nSeptember 18th: The top 5 name submissions are selected by a team of City staff and members of OAK. \nSeptember 22nd: The top 5 names are announced\, and voting for the winning name begins. (Top 5 names will be announced on Facebook\, and voting will occur using a Google form). \nOctober 6th @ 12:00pm – Voting will close. \nOctober 7th : Mayor will announce the winning name at the Pumpkin & Pint event hosted by Onalaska Art Keepers. \nVoting link: https://forms.gle/2cqz4GecFHRjei3n9
URL:https://onalaskaartkeepers.org/event/name-the-rockin-sunfish-contest/
LOCATION:WI
CATEGORIES:OAK Events
ATTACH;FMTTYPE=image/jpeg:https://onalaskaartkeepers.org/wp-content/uploads/2023/10/Sunfish-Naming-Contest.jpeg
END:VEVENT
BEGIN:VEVENT
DTSTART;TZID=UTC:20230729T100000
DTEND;TZID=UTC:20230729T140000
DTSTAMP:20260421T225153
CREATED:20231003T014049Z
LAST-MODIFIED:20231003T014049Z
UID:1306-1690624800-1690639200@onalaskaartkeepers.org
SUMMARY:Butterfly Extravaganza
DESCRIPTION:Join us on July 29 from 10:00 AM – 2:00 PM at the Dave English shelter in Community Park to paint one of our 100 metal butterflies that will be displayed around Onalaska throughout August. The cost to paint a butterfly is $15. The best part is that you get to take it home with you after they’ve been taken down so you can display your artwork in your own yard!
URL:https://onalaskaartkeepers.org/event/butterfly-extravaganza/
LOCATION:Community Park\, 515 Quincy Street\, Onalaska\, WI\, 54650\, United States
CATEGORIES:OAK Events
ATTACH;FMTTYPE=image/jpeg:https://onalaskaartkeepers.org/wp-content/uploads/2023/10/OAK-Butterfly-Painting.jpeg
END:VEVENT
BEGIN:VEVENT
DTSTART;VALUE=DATE:20230713
DTEND;VALUE=DATE:20230714
DTSTAMP:20260421T225153
CREATED:20231003T014335Z
LAST-MODIFIED:20231003T014335Z
UID:1310-1689206400-1689292799@onalaskaartkeepers.org
SUMMARY:Rockin' Sunfish
DESCRIPTION:Join us at the Great River Landing for the installation of our very first Rockin’ Sunfish.
URL:https://onalaskaartkeepers.org/event/rockin-sunfish/
LOCATION:Great River Landing\, 101 Irving Street\, Onalaska\, WI\, 54650\, United States
CATEGORIES:OAK Events
ATTACH;FMTTYPE=image/jpeg:https://onalaskaartkeepers.org/wp-content/uploads/2023/10/Rockin-Sunfish-Painting.jpeg
END:VEVENT
BEGIN:VEVENT
DTSTART;VALUE=DATE:20230601
DTEND;VALUE=DATE:20230905
DTSTAMP:20260421T225153
CREATED:20231003T014540Z
LAST-MODIFIED:20231003T014540Z
UID:1313-1685577600-1693871999@onalaskaartkeepers.org
SUMMARY:Pop Up Onalaska
DESCRIPTION:Join us on an Art Scavenger Hunt today through September 4\, 2023! \nAround Onalaska\, you’ll find canvases painted by artists of all ages from our community. Visit each location and note on the form the subject of the piece. When you fill in all the blanks\, return the brochure for entry in the prize drawing for CASH and GIFT CARDS! \nThe artwork will come down on September 5\, 2023. Winners will be drawn at Pumpkin & a Pint on October 7 at Dash Park. \nHow can you participate? Stop at one of the locations listed below and pick up a Pop-Up Onalaska entry brochure which includes the locations of each piece of artwork and the official entry form.
URL:https://onalaskaartkeepers.org/event/pop-up-onalaska/
LOCATION:WI
CATEGORIES:OAK Events
ATTACH;FMTTYPE=image/jpeg:https://onalaskaartkeepers.org/wp-content/uploads/2023/10/Pumpkin-and-a-Pint-Painting-Auction.jpeg
END:VEVENT
END:VCALENDAR