BEGIN:VCALENDAR
VERSION:2.0
PRODID:-//Onalaska Art Keepers - ECPv6.15.20//NONSGML v1.0//EN
CALSCALE:GREGORIAN
METHOD:PUBLISH
X-WR-CALNAME:Onalaska Art Keepers
X-ORIGINAL-URL:https://onalaskaartkeepers.org
X-WR-CALDESC:Events for Onalaska Art Keepers
REFRESH-INTERVAL;VALUE=DURATION:PT1H
X-Robots-Tag:noindex
X-PUBLISHED-TTL:PT1H
BEGIN:VTIMEZONE
TZID:UTC
BEGIN:STANDARD
TZOFFSETFROM:+0000
TZOFFSETTO:+0000
TZNAME:UTC
DTSTART:20220101T000000
END:STANDARD
END:VTIMEZONE
BEGIN:VEVENT
DTSTART;VALUE=DATE:20230713
DTEND;VALUE=DATE:20230714
DTSTAMP:20260422T033044
CREATED:20231003T014335Z
LAST-MODIFIED:20231003T014335Z
UID:1310-1689206400-1689292799@onalaskaartkeepers.org
SUMMARY:Rockin' Sunfish
DESCRIPTION:Join us at the Great River Landing for the installation of our very first Rockin’ Sunfish.
URL:https://onalaskaartkeepers.org/event/rockin-sunfish/
LOCATION:Great River Landing\, 101 Irving Street\, Onalaska\, WI\, 54650\, United States
CATEGORIES:OAK Events
ATTACH;FMTTYPE=image/jpeg:https://onalaskaartkeepers.org/wp-content/uploads/2023/10/Rockin-Sunfish-Painting.jpeg
END:VEVENT
END:VCALENDAR